BEGIN:VCALENDAR
VERSION:2.0
PRODID:-//CBIE - ECPv6.15.20//NONSGML v1.0//EN
CALSCALE:GREGORIAN
METHOD:PUBLISH
X-ORIGINAL-URL:https://cbie.ca
X-WR-CALDESC:Events for CBIE
REFRESH-INTERVAL;VALUE=DURATION:PT1H
X-Robots-Tag:noindex
X-PUBLISHED-TTL:PT1H
BEGIN:VTIMEZONE
TZID:America/Toronto
BEGIN:DAYLIGHT
TZOFFSETFROM:-0500
TZOFFSETTO:-0400
TZNAME:EDT
DTSTART:20210314T070000
END:DAYLIGHT
BEGIN:STANDARD
TZOFFSETFROM:-0400
TZOFFSETTO:-0500
TZNAME:EST
DTSTART:20211107T060000
END:STANDARD
BEGIN:DAYLIGHT
TZOFFSETFROM:-0500
TZOFFSETTO:-0400
TZNAME:EDT
DTSTART:20220313T070000
END:DAYLIGHT
BEGIN:STANDARD
TZOFFSETFROM:-0400
TZOFFSETTO:-0500
TZNAME:EST
DTSTART:20221106T060000
END:STANDARD
BEGIN:DAYLIGHT
TZOFFSETFROM:-0500
TZOFFSETTO:-0400
TZNAME:EDT
DTSTART:20230312T070000
END:DAYLIGHT
BEGIN:STANDARD
TZOFFSETFROM:-0400
TZOFFSETTO:-0500
TZNAME:EST
DTSTART:20231105T060000
END:STANDARD
END:VTIMEZONE
BEGIN:VEVENT
DTSTART;TZID=America/Toronto:20220407T130000
DTEND;TZID=America/Toronto:20220407T143000
DTSTAMP:20260421T043726
CREATED:20220223T191551Z
LAST-MODIFIED:20220411T144436Z
UID:10000352-1649336400-1649341800@cbie.ca
SUMMARY:Operationalizing Institutional Commitments on EDI through Inclusive Internationalization
DESCRIPTION:[vc_row][vc_column width=”1/1″][vc_column_text]Join us to explore the diverse institutional approaches across Canadian higher education institutions in advancing commitments to equity\, diversity\, and inclusion (EDI) through internationalization. \nDuring this session\, participants will have the opportunity to learn and exchange with three Senior Internationalization Officers (SIOs) on how their institutions are embedding commitments to EDI into the design and implementation of internationalization strategies and programming. This session will touch on applying EDI commitments operationally in international partnerships and collaboration\, education abroad\, internationalization at home\, and international student supports and services. \nIn this session\, you’ll hear from: \n\nAnver Saloojee\, Professor and Interim Vice-President\, Equity and Community Inclusion\, Ryerson University\nCarolyn Russell\, Associate Vice-President International Education\, Vancouver Island University\nMeghna Ramaswamy\, Director\, International Office\, University of Saskatchewan\n\n[/vc_column_text][vc_column_text] \nWebinar Agenda\n[/vc_column_text][vc_column_text] \n\n\n\n1:00 – 1:05\nWelcome and introduction (CBIE)\n\n\n1:05 – 1:25\nPresentation from Anver Saloojee\, Professor and Interim Vice-President\, Equity and Community Inclusion\, Ryerson University\n\n\n1:25 – 1:45\nPresentation from Carolyn Russell\, Associate Vice-President International Education\, Vancouver Island University\n\n\n1:45 – 2:05\nPresentation from Meghna Ramaswamy\, Director\, International Office\, University of Saskatchewan\n\n\n2:05 – 2:25\nQ&A and discussion\n\n\n2:25 – 2:30\nConcluding remarks (CBIE)\n\n\n\n[/vc_column_text][vc_column_text] \nFacilitators\n[/vc_column_text][/vc_column][/vc_row][vc_row class=”facilitator-row”][vc_column column_padding=”padding-2″ width=”1/4″][/vc_column][vc_column column_padding=”padding-2″ width=”3/4″][vc_column_text] \nAnver Saloojee\n[/vc_column_text][vc_column_text]Professor and Interim Vice-President\, Equity and Community Inclusion[/vc_column_text][vc_column_text]Ryerson University[/vc_column_text][vc_column_text]Anver Saloojee is Full Professor in the Department of Politics and Public Administration\, (since 1987) and a member of the Yeates School of Graduate Studies\, at Ryerson University. Beginning March 1\, 2022\, he will serve as Interim Vice President\, Equity and Community Inclusion. \nBetween 2005 and 2008\, Anver was a Special Advisor in the Presidency of the Government of South Africa. \nAnver was the Dean of Record and the Interim Dean of the Faculty of Law at Ryerson (2015 and 2020). Along with an exceptional team of colleagues\, Anver worked to secure all the necessary permissions for Ryerson University to open a Law School. He was the Assistant Vice President (International) at Ryerson University between 2016 and 2020. In March 2020\, he was appointed as a Senior Fellow of Massey College. \nAnver served as President Ryerson Faculty Association between November 2009 and May 2014. He is a past President of the Laidlaw Foundation\, and between 2011-2014 he was Vice President of the Canadian Association of University Teachers (CAUT)\, and a former Chair of the CAUT Equity Committee.  On 25 November 2011\, he received the inaugural CAUT Equity Award; in 2015 he received the Ryerson Faculty Association\, Distinguished Service Award 2015; and the Alan Shepard Equity\, Diversity and Inclusion Award in 2018. \nAnver does research on and has published in the area of Anti-Racism\, Equity Diversity and Inclusion\, and has been invited to numerous national and international conferences and workshops where he has presented papers on a wide array of topics related to equity\, diversity and inclusion.[/vc_column_text][/vc_column][/vc_row][vc_row class=”facilitator-row”][vc_column column_padding=”padding-2″ width=”1/4″][/vc_column][vc_column column_padding=”padding-2″ width=”3/4″][vc_column_text] \nCarolyn Russell\n[/vc_column_text][vc_column_text]Associate Vice-President International Education[/vc_column_text][vc_column_text]Vancouver Island University[/vc_column_text][vc_column_text]Carolyn Russell\, Associate Vice-President\, International Education at Vancouver Island University has a number of key responsibilities including recruitment and admissions of international students\, the promotion of student success\, the provision of relevant supports for international students and oversight of international partnerships\, global engagement and internationalization activities\, and international mobility. \nCarolyn has two decades of experience as a senior university administrator and for the past 10 years\, she was in a variety of positions at the University of Victoria (UVic)\, most recently as Executive Director Global Engagement. In this role\, she worked with institutional colleagues and local\, provincial\, and national partners to advance Canada’s academic reputation and attract high-caliber partners to the region. She also led the development and implementation of an international plan to support the university’s strategic framework\, led and oversaw the implementation of international agreements\, led the development of new strategic global partnerships and developed an institutional global strategy. Prior to joining UVic\, Carolyn spent a number of years at the University of Northern British Columbia (UNBC) in a variety of roles related to international education and engagement. \nCarolyn received the 2012 BC Council for International Education Award for Service Excellence in International Education. She holds a Bachelor’s in International Studies from UNBC\, and a Master of Public Administration from UVic.[/vc_column_text][/vc_column][/vc_row][vc_row class=”facilitator-row”][vc_column column_padding=”padding-2″ width=”1/4″][/vc_column][vc_column column_padding=”padding-2″ width=”3/4″][vc_column_text] \nMeghna Ramaswamy\n[/vc_column_text][vc_column_text]Director\, International Office[/vc_column_text][vc_column_text]University of Saskatchewan[/vc_column_text][vc_column_text]Dr. Meghna Ramaswamy is the Director of the International Office at the University of Saskatchewan\, where she leads the internationalization portfolio for the university comprising of international research and partnerships. She has travelled and worked extensively with institutions\, government\, funding agencies and businesses around the world\, including those in Europe\, Africa\, China\, Russia\, Philippines\, Brazil and India. She loves interacting with people from different cultures and backgrounds\, and uses these deep learning experiences to build vision\, and guide sound strategy development for international education\, focusing on sustainable research and partnerships. \nShe is a strong advocate for the UN Sustainable Development Goals (SDGs) and the role it plays in International Education. She serves as an Executive Committee member of the Commission of International Initiatives at the Association of Public Land Universities in the US and as a Steering Committee member of the Association of Commonwealth Universities Higher Education and Sustainable Development Goals Network in the UK. On a local level\, she chairs the Saskatchewan Education Alliance working group on international research\, development and the SDGs in partnership with the Government of Saskatchewan\, Canada. \nDr. Ramaswamy has authored multiple publications on the SDGs including those on zero hunger\, interdisciplinary research\, partnerships and transformative leadership and most recently published an article in the Journal of Studies in International Education on “Reimagining Internationalization in Higher Education Through the United Nations Sustainable Development Goals for the Betterment of Society”. \nPrior to joining the University of Saskatchewan in 2018\, Dr. Ramaswamy led the Centre for AIDS Reagents at the National Institutes of Biological Standards and Control\, a UK government agency that works in the field of biological standardization. Here\, Dr. Ramaswamy orchestrated key international partnerships with the World Health Organization\, the European Commission\, the National Institute of Health\, and the Bill and Melinda Gates Foundation. In an advisory capacity\, Dr. Ramaswamy has served as an Expert Advisor to the World Health Organization and chaired many External Advisory Committees for European projects\, funded by the European Commission. As a principal scientist\, Dr. Ramaswamy attracted over $19 million in funding. \nDr Ramaswamy was also an adjunct lecturer in Kings College London\, and taught undergraduate courses to medical students. Meghna earned her BSc degree in Microbiology from Kings College London\, a MSc degree in Virology from The London School of Hygiene and Tropical Medicine and a PhD in Clinical Infection from University College London.[/vc_column_text][/vc_column][/vc_row][vc_row][vc_column width=”1/1″][/vc_column][/vc_row]
URL:https://cbie.ca/event/operationalizing-institutional-commitments-edi/
CATEGORIES:Webinars
ATTACH;FMTTYPE=image/jpeg:https://cbie.ca/wp-content/uploads/2022/02/220407-webinar-CPD.jpg
ORGANIZER;CN="CBIE":MAILTO:communication@cbie.ca
END:VEVENT
END:VCALENDAR