BEGIN:VCALENDAR
VERSION:2.0
PRODID:-//CBIE - ECPv6.15.20//NONSGML v1.0//EN
CALSCALE:GREGORIAN
METHOD:PUBLISH
X-WR-CALNAME:CBIE
X-ORIGINAL-URL:https://cbie.ca
X-WR-CALDESC:Events for CBIE
REFRESH-INTERVAL;VALUE=DURATION:PT1H
X-Robots-Tag:noindex
X-PUBLISHED-TTL:PT1H
BEGIN:VTIMEZONE
TZID:America/Toronto
BEGIN:DAYLIGHT
TZOFFSETFROM:-0500
TZOFFSETTO:-0400
TZNAME:EDT
DTSTART:20240310T070000
END:DAYLIGHT
BEGIN:STANDARD
TZOFFSETFROM:-0400
TZOFFSETTO:-0500
TZNAME:EST
DTSTART:20241103T060000
END:STANDARD
BEGIN:DAYLIGHT
TZOFFSETFROM:-0500
TZOFFSETTO:-0400
TZNAME:EDT
DTSTART:20250309T070000
END:DAYLIGHT
BEGIN:STANDARD
TZOFFSETFROM:-0400
TZOFFSETTO:-0500
TZNAME:EST
DTSTART:20251102T060000
END:STANDARD
BEGIN:DAYLIGHT
TZOFFSETFROM:-0500
TZOFFSETTO:-0400
TZNAME:EDT
DTSTART:20260308T070000
END:DAYLIGHT
BEGIN:STANDARD
TZOFFSETFROM:-0400
TZOFFSETTO:-0500
TZNAME:EST
DTSTART:20261101T060000
END:STANDARD
END:VTIMEZONE
BEGIN:VEVENT
DTSTART;TZID=America/Toronto:20251001T120000
DTEND;TZID=America/Toronto:20251001T130000
DTSTAMP:20260421T072438
CREATED:20250728T202501Z
LAST-MODIFIED:20251002T132354Z
UID:10000507-1759320000-1759323600@cbie.ca
SUMMARY:Transnational Education 101: A Guide for Canadian Institutions
DESCRIPTION:[vc_row][vc_column width=”1/1″][vc_column_text] \nOverview\nTransnational Education (TNE) is reshaping the global higher education landscape\, opening up new growth opportunities\, reach\, and impact. This one-hour introductory workshop equips Canadian higher education leaders and practitioners with a clear\, practical foundation in TNE. Together\, we’ll unpack the global and Canadian context\, explore different delivery models and associated risks\, and highlight success factors and common pitfalls drawn from international best practices and global case studies. \nParticipants will also gain insights into what to consider internally\, from operational readiness and strategic alignment to building stakeholder buy-in and setting realistic timelines. The session draws on Edified’s decades of international experience delivering TNE operations and supporting clients worldwide\, complemented by lived insights from guest speakers sharing an institutional perspective. \nInteractive polls and Q&A segments throughout will ensure participants leave with practical tips\, greater confidence in assessing potential markets and partners\, and a clearer understanding of how TNE can strengthen their institution’s strategic future. \nLearning Objectives\n\nUnderstand the global and Canadian scope and scale of TNE\, and its strategic relevance.\nIdentify and differentiate between key TNE models and the associated risk profiles.\nRecognize critical success factors and common pitfalls when pursuing TNE initiatives.\nBegin to assess internal readiness\, including operational considerations and institutional drivers.\nArticulate how TNE can align with and support their institutional strategy and objectives.\nApply top tips for evaluating potential markets and selecting partners effectively.\nBegin to outline realistic expectations\, timelines\, and approaches to gaining internal buy-in.\n\n[/vc_column_text][/vc_column][/vc_row][vc_row][vc_column width=”1/1″][vc_column_text] \nPresenters\n[/vc_column_text][/vc_column][/vc_row][vc_row class=”facilitator-row”][vc_column width=”1/4″][/vc_column][vc_column width=”1/2″][vc_column_text] \nElyse Pipitone\n[/vc_column_text][vc_column_text]Senior Consultant – Canada[/vc_column_text][vc_btn title=”” style=”flat” shape=”square” color=”primary” align=”left” i_icon_fontawesome=”fa fa-brands fa-linkedin-in” css=”” add_icon=”true” link=”url:https%3A%2F%2Fwww.linkedin.com%2Fin%2Felysepipitone%2F%3ForiginalSubdomain%3Dca|target:_blank”][/vc_column][vc_column width=”1/4″][/vc_column][/vc_row][vc_row top_padding=”40″ class=”facilitator-row”][vc_column width=”1/4″][/vc_column][vc_column width=”1/2″][vc_column_text] \nJeremy Histon\n[/vc_column_text][vc_column_text]Senior Consultant – UK[/vc_column_text][vc_btn title=”” style=”flat” shape=”square” color=”primary” align=”left” i_icon_fontawesome=”fa fa-brands fa-linkedin-in” css=”” add_icon=”true” link=”url:https%3A%2F%2Fwww.linkedin.com%2Fin%2Fjeremy-histon-70159a15%2F|target:_blank”][/vc_column][vc_column width=”1/4″][/vc_column][/vc_row][vc_row][vc_column width=”1/1″][vc_column_text] \nNext Transnational Education Event\nOctober 23rd — Transnational Education: Insights and Best Practices from Canadian Institutions[/vc_column_text][/vc_column][/vc_row]
URL:https://cbie.ca/event/transnational-education-101-a-guide-for-canadian-institutions/
ATTACH;FMTTYPE=image/png:https://cbie.ca/wp-content/uploads/2025/07/TNE-Edified-2.png
ORGANIZER;CN="CBIE":MAILTO:communication@cbie.ca
END:VEVENT
BEGIN:VEVENT
DTSTART;TZID=America/Toronto:20251002T131500
DTEND;TZID=America/Toronto:20251002T143000
DTSTAMP:20260421T072438
CREATED:20250904T121348Z
LAST-MODIFIED:20251002T194416Z
UID:10000512-1759410900-1759415400@cbie.ca
SUMMARY:Welcoming Wisely: The Economic Impact of International Education
DESCRIPTION:What Practitioners\, Policymakers\, and Sector Leaders Need to Know\nDescription\nJoin us for a timely and thought-provoking webinar hosted in collaboration with CBIE\, IDP\, and CIBC exploring the intersection of international education and Canada’s economic future. As Canada navigates a surge in immigration and shifting global talent flows\, international students are emerging as a vital force in shaping our workforce\, productivity\, and long-term growth. This session will unpack the economic implications of student immigration\, offering insights into how a well-managed strategy can serve as a powerful lever for national prosperity. \nAli Jaffery\, Executive Director and Senior Economist at CIBC Capital Markets\, will present a macroeconomic overview\, examining how student immigration influences labor markets\, productivity trends\, and supply-side challenges such as housing. \nFollowing the overview\, an expert panel will share diverse perspectives and actionable insights to help inform smarter\, more sustainable approaches to international education in Canada. \nAudience\nGovernment stakeholders at all levels\, national and provincial associations\, and leaders and practitioners across Canada’s educational ecosystem.
URL:https://cbie.ca/event/welcoming-wisely-the-economic-impact-of-international-education/
ATTACH;FMTTYPE=image/png:https://cbie.ca/wp-content/uploads/2025/09/CIBC-IDP.png
ORGANIZER;CN="CBIE":MAILTO:communication@cbie.ca
END:VEVENT
BEGIN:VEVENT
DTSTART;VALUE=DATE:20251008
DTEND;VALUE=DATE:20251010
DTSTAMP:20260421T072438
CREATED:20250516T100043Z
LAST-MODIFIED:20250516T113805Z
UID:10000505-1759881600-1760054399@cbie.ca
SUMMARY:SEAMEO RETRAC: International Conference 2025
DESCRIPTION:The Southeast Asian Ministers of Education\, Regional Training Center in Vietnam (SEAMEO RETRAC)\, in collaboration with CBIE\, BCCIE and ABIE\, will host the International Conference 2025 on October 8–9 in Ho Chi Minh City\, Vietnam. \nWith the theme “Internationalization in Higher Education Leadership and Management: Perspectives\, Innovations and Best Practices\,” the conference will bring together global education leaders and experts to share insights\, showcase innovations\, and explore solutions to current challenges in higher education leadership and management.
URL:https://cbie.ca/event/seameo-retract-international-conference-2025/
ATTACH;FMTTYPE=image/jpeg:https://cbie.ca/wp-content/uploads/2025/05/SEAMEO-RETRAC.jpeg
ORGANIZER;CN="CBIE":MAILTO:communication@cbie.ca
END:VEVENT
BEGIN:VEVENT
DTSTART;TZID=America/Toronto:20251023T120000
DTEND;TZID=America/Toronto:20251023T130000
DTSTAMP:20260421T072438
CREATED:20250926T120019Z
LAST-MODIFIED:20251023T183415Z
UID:10000511-1761220800-1761224400@cbie.ca
SUMMARY:Transnational Education: Insights and Best Practices from Canadian Institutions
DESCRIPTION:Join us to explore the experiences of Canadian institutions in transnational education (TNE). Panelists from the College of the North Atlantic\, Niagara College\, and the University of the Fraser Valley will highlight a variety of TNE initiatives within their institutions\, sharing lessons learned\, common challenges\, and best practices for success.   \nThey will discuss key considerations and insights for delivering education across borders\, drawing on real-world experiences to inform your institution’s transnational education initiatives.  \nThe session will conclude with a moderated discussion and interactive Q&A\, giving participants the chance to engage and explore practical approaches to global education.  \nLearning Objectives  \n\nLearn best practices and key lessons from Canadian institutions running transnational education initiatives. \nDiscover practical strategies for designing\, delivering\, and supporting programs across borders. \nGain insights you can apply to strengthen your own transnational education projects. \n\nPresenters: \n\nKaren Dalkie\, Vice President\, Development and Partnerships\, CBIE (Moderator)\nSean Coote\, Vice President\, International\, Niagara College\nPeter Geller\, Director\, Transnational Education\, University of the Fraser Valley\nElizabeth Vincent\, Associate Vice President\, College of the North Atlantic\n\n 
URL:https://cbie.ca/event/insightsandbestpractices/
ATTACH;FMTTYPE=image/png:https://cbie.ca/wp-content/uploads/2025/09/TNE-Insight-2.png
ORGANIZER;CN="CBIE":MAILTO:communication@cbie.ca
END:VEVENT
END:VCALENDAR