BEGIN:VCALENDAR
VERSION:2.0
PRODID:-//CBIE - ECPv6.15.20//NONSGML v1.0//EN
CALSCALE:GREGORIAN
METHOD:PUBLISH
X-ORIGINAL-URL:https://cbie.ca
X-WR-CALDESC:Events for CBIE
REFRESH-INTERVAL;VALUE=DURATION:PT1H
X-Robots-Tag:noindex
X-PUBLISHED-TTL:PT1H
BEGIN:VTIMEZONE
TZID:America/New_York
BEGIN:DAYLIGHT
TZOFFSETFROM:-0500
TZOFFSETTO:-0400
TZNAME:EDT
DTSTART:20210314T070000
END:DAYLIGHT
BEGIN:STANDARD
TZOFFSETFROM:-0400
TZOFFSETTO:-0500
TZNAME:EST
DTSTART:20211107T060000
END:STANDARD
BEGIN:DAYLIGHT
TZOFFSETFROM:-0500
TZOFFSETTO:-0400
TZNAME:EDT
DTSTART:20220313T070000
END:DAYLIGHT
BEGIN:STANDARD
TZOFFSETFROM:-0400
TZOFFSETTO:-0500
TZNAME:EST
DTSTART:20221106T060000
END:STANDARD
BEGIN:DAYLIGHT
TZOFFSETFROM:-0500
TZOFFSETTO:-0400
TZNAME:EDT
DTSTART:20230312T070000
END:DAYLIGHT
BEGIN:STANDARD
TZOFFSETFROM:-0400
TZOFFSETTO:-0500
TZNAME:EST
DTSTART:20231105T060000
END:STANDARD
BEGIN:DAYLIGHT
TZOFFSETFROM:-0500
TZOFFSETTO:-0400
TZNAME:EDT
DTSTART:20240310T070000
END:DAYLIGHT
BEGIN:STANDARD
TZOFFSETFROM:-0400
TZOFFSETTO:-0500
TZNAME:EST
DTSTART:20241103T060000
END:STANDARD
END:VTIMEZONE
BEGIN:VEVENT
DTSTART;VALUE=DATE:20230516
DTEND;VALUE=DATE:20230518
DTSTAMP:20260420T083738
CREATED:20230209T172530Z
LAST-MODIFIED:20230210T124231Z
UID:10000387-1684195200-1684367999@cbie.ca
SUMMARY:Québec Regional Meeting
DESCRIPTION:This meeting takes place in French. En mai\, l’Université du Québec en Outaouais sera l’hôte colloque régional du Québec et de la francophonie du BCEI 2023. Cet événement portera sur l’avenir de l’éducation internationale par le biais d’une série de séances en petits groupes\, de tables rondes et d’activités de réseautage.
URL:https://cbie.ca/event/quebec-regional-meeting/
LOCATION:Manitoba
CATEGORIES:Regional Meetings
ATTACH;FMTTYPE=image/png:https://cbie.ca/wp-content/uploads/2023/02/2023-Regional-Meeting-Creatives-25.png
ORGANIZER;CN="CBIE":MAILTO:communication@cbie.ca
END:VEVENT
BEGIN:VEVENT
DTSTART;VALUE=DATE:20220504
DTEND;VALUE=DATE:20220506
DTSTAMP:20260420T083738
CREATED:20220414T181757Z
LAST-MODIFIED:20220428T212059Z
UID:10000356-1651622400-1651795199@cbie.ca
SUMMARY:Colloque régional du Québec
DESCRIPTION:L’Université de Sherbrooke sera l’hôte du colloque régional du Québec 2022 du Bureau canadien de l’éducation internationale. Ce colloque s’articulera autour de réflexions sur l’avenir de l’éducation internationale à travers une série de séances en petits groupes\, de tables rondes et d’activités de réseautage. Il réunira en présentiel près de 200 professionnels du secteur de l’éducation internationale provenant de cégeps\, de collèges et d’universités. Il permettra de partager de bonnes pratiques et d’interagir avec des panélistes d’intérêt sur plusieurs sujets dans les principaux champs d’activités que sont le développement des relations internationales\, le recrutement\, la mobilité étudiante et l’accueil des étudiants internationaux.
URL:https://cbie.ca/event/colloque-regional-quebec/
LOCATION:Manitoba
CATEGORIES:Regional Meetings
ATTACH;FMTTYPE=image/jpeg:https://cbie.ca/wp-content/uploads/2022/03/22339020_10155879703417049_4287659358278153518_o.jpeg
ORGANIZER;CN="CBIE":MAILTO:communication@cbie.ca
END:VEVENT
END:VCALENDAR