BEGIN:VCALENDAR
VERSION:2.0
PRODID:-//CBIE - ECPv6.15.20//NONSGML v1.0//EN
CALSCALE:GREGORIAN
METHOD:PUBLISH
X-WR-CALNAME:CBIE
X-ORIGINAL-URL:https://cbie.ca
X-WR-CALDESC:Events for CBIE
REFRESH-INTERVAL;VALUE=DURATION:PT1H
X-Robots-Tag:noindex
X-PUBLISHED-TTL:PT1H
BEGIN:VTIMEZONE
TZID:America/Toronto
BEGIN:DAYLIGHT
TZOFFSETFROM:-0500
TZOFFSETTO:-0400
TZNAME:EDT
DTSTART:20220313T070000
END:DAYLIGHT
BEGIN:STANDARD
TZOFFSETFROM:-0400
TZOFFSETTO:-0500
TZNAME:EST
DTSTART:20221106T060000
END:STANDARD
BEGIN:DAYLIGHT
TZOFFSETFROM:-0500
TZOFFSETTO:-0400
TZNAME:EDT
DTSTART:20230312T070000
END:DAYLIGHT
BEGIN:STANDARD
TZOFFSETFROM:-0400
TZOFFSETTO:-0500
TZNAME:EST
DTSTART:20231105T060000
END:STANDARD
BEGIN:DAYLIGHT
TZOFFSETFROM:-0500
TZOFFSETTO:-0400
TZNAME:EDT
DTSTART:20240310T070000
END:DAYLIGHT
BEGIN:STANDARD
TZOFFSETFROM:-0400
TZOFFSETTO:-0500
TZNAME:EST
DTSTART:20241103T060000
END:STANDARD
END:VTIMEZONE
BEGIN:VEVENT
DTSTART;VALUE=DATE:20230207
DTEND;VALUE=DATE:20230301
DTSTAMP:20260421T065113
CREATED:20221212T162548Z
LAST-MODIFIED:20230208T163346Z
UID:10000376-1675728000-1677628799@cbie.ca
SUMMARY:Aléas Campus –  Duty of Care for Mobility Activities at Canadian Institutions
DESCRIPTION:[vc_row text_align=”center”][vc_column width=”1/1″][vc_column_text] \nRegistration Deadline: February 10\, 2023\n[/vc_column_text][/vc_column][/vc_row][vc_row text_align=”center”][vc_column width=”1/1″][vc_column_text] \nOVERVIEW\nUniversities and colleges must manage travel-related risks to meet their duty of care and ensure the health and safety of individuals (students\, faculty members\, administrative staff\, etc.). \nThis Aléas training series will offer insight into the legal obligations of Canadian organizations in relation to the health and safety of travellers. This program is based on three essential elements to be integrated into one’s risk management strategy to demonstrate due diligence. \n\nAuthority\nForesight\nEfficiency\n\n[/vc_column_text][vc_column_text] \nLEARNING OBJECTIVES\n\nImprove understanding of the duty of care\nBecome familiar with best practices in travel risk management\nStrengthen professional capabilities to manage risk\nIdentify the elements to put in place to develop an organizational risk management culture\n\n\nNOTE: To deepen your knowledge and learn about best practices to manage travel risks\, we recommend registering for the six-week online course Campus Aléas – International Mobility Risk Management; A Look at your Practices. \n[/vc_column_text][vc_column_text] \nAUDIENCE\nThis training is intended for all individuals within an organization whose role requires them to make decisions or be involved in travel-related operations. \n[/vc_column_text][/vc_column][/vc_row][vc_row text_align=”center”][vc_column width=”1/1″][vc_column_text] \nTRAINING SCHEDULE & DELIVERY\nThis training will be delivered in three asynchronous video capsules. Participants are encouraged to view one video per week\, as per the schedule listed below\, and complete the required activities/homework. The live webinar on February 28th will build upon the asynchronous activities to deepen the knowledge and learning. Please note that the session on February 28th will NOT be recorded\, and thus attendance at this live session is required.  \n[/vc_column_text][/vc_column][/vc_row][vc_row text_align=”center”][vc_column width=”1/2″][vc_column_text] \nRelease of video Module #1 – Authority \nRelease of video Module #2 – Foresight \nRelease of video Module #3 – Efficiency \nLive Webinar with Aléas \n[/vc_column_text][/vc_column][vc_column width=”1/2″][vc_column_text] \nFebruary 7th \nFebruary 14th \nFebruary 21st \nFebruary 28th from 1:30pm-3:00pm (ET) \n[/vc_column_text][/vc_column][/vc_row][vc_row][vc_column width=”1/3″]\n			\n			\n				Read Marie-Claude’s bio\n			[/vc_column][vc_column width=”1/3″][vc_column_text] \nMarie-Claude du Cap\n[/vc_column_text][vc_column_text] \nFounder & CEO\n[/vc_column_text][/vc_column][vc_column width=”1/3″][/vc_column][/vc_row]
URL:https://cbie.ca/event/campus-aleas-feb-2023/
CATEGORIES:Online Course,Workshop Series
ATTACH;FMTTYPE=image/png:https://cbie.ca/wp-content/uploads/2022/12/Image-EN.png
END:VEVENT
END:VCALENDAR