BEGIN:VCALENDAR
VERSION:2.0
PRODID:-//CBIE - ECPv6.15.20//NONSGML v1.0//EN
CALSCALE:GREGORIAN
METHOD:PUBLISH
X-ORIGINAL-URL:https://cbie.ca
X-WR-CALDESC:Events for CBIE
REFRESH-INTERVAL;VALUE=DURATION:PT1H
X-Robots-Tag:noindex
X-PUBLISHED-TTL:PT1H
BEGIN:VTIMEZONE
TZID:America/Toronto
BEGIN:DAYLIGHT
TZOFFSETFROM:-0500
TZOFFSETTO:-0400
TZNAME:EDT
DTSTART:20240310T070000
END:DAYLIGHT
BEGIN:STANDARD
TZOFFSETFROM:-0400
TZOFFSETTO:-0500
TZNAME:EST
DTSTART:20241103T060000
END:STANDARD
BEGIN:DAYLIGHT
TZOFFSETFROM:-0500
TZOFFSETTO:-0400
TZNAME:EDT
DTSTART:20250309T070000
END:DAYLIGHT
BEGIN:STANDARD
TZOFFSETFROM:-0400
TZOFFSETTO:-0500
TZNAME:EST
DTSTART:20251102T060000
END:STANDARD
BEGIN:DAYLIGHT
TZOFFSETFROM:-0500
TZOFFSETTO:-0400
TZNAME:EDT
DTSTART:20260308T070000
END:DAYLIGHT
BEGIN:STANDARD
TZOFFSETFROM:-0400
TZOFFSETTO:-0500
TZNAME:EST
DTSTART:20261101T060000
END:STANDARD
END:VTIMEZONE
BEGIN:VEVENT
DTSTART;TZID=America/Toronto:20250326T130000
DTEND;TZID=America/Toronto:20250326T160000
DTSTAMP:20260421T071425
CREATED:20240927T200129Z
LAST-MODIFIED:20250131T140956Z
UID:10000489-1742994000-1743004800@cbie.ca
SUMMARY:IE-Pro: International Education Leadership for the 21st Century Institution
DESCRIPTION:
URL:https://cbie.ca/event/ie-pro-leadership/
CATEGORIES:International Education Professional Training (IE Pro)
ATTACH;FMTTYPE=image/png:https://cbie.ca/wp-content/uploads/2024/09/EN-IE-Pro-International-Education-Leadership-for-the-21st-Century-Institution.png
ORGANIZER;CN="CBIE":MAILTO:communication@cbie.ca
END:VEVENT
BEGIN:VEVENT
DTSTART;TZID=America/Toronto:20250305T113000
DTEND;TZID=America/Toronto:20250305T130000
DTSTAMP:20260421T071425
CREATED:20240905T180150Z
LAST-MODIFIED:20250109T195004Z
UID:10000486-1741174200-1741179600@cbie.ca
SUMMARY:IE-Pro: International Education Areas of Practice
DESCRIPTION:
URL:https://cbie.ca/event/international-education-areas-of-practice/
CATEGORIES:International Education Professional Training (IE Pro)
ATTACH;FMTTYPE=image/png:https://cbie.ca/wp-content/uploads/2024/09/EN-IE-Pro_-International-Education-Areas-of-Practice.png
ORGANIZER;CN="CBIE":MAILTO:communication@cbie.ca
END:VEVENT
BEGIN:VEVENT
DTSTART;TZID=America/Toronto:20250212T110000
DTEND;TZID=America/Toronto:20250212T130000
DTSTAMP:20260421T071425
CREATED:20240905T175928Z
LAST-MODIFIED:20250108T210846Z
UID:10000485-1739358000-1739365200@cbie.ca
SUMMARY:IE-Pro: Cultural Competence in International Education
DESCRIPTION:
URL:https://cbie.ca/event/cultural-competence-in-international-education/
CATEGORIES:International Education Professional Training (IE Pro)
ATTACH;FMTTYPE=image/png:https://cbie.ca/wp-content/uploads/2024/09/EN-IE-Pro-Cultural-Competence.png
ORGANIZER;CN="CBIE":MAILTO:communication@cbie.ca
END:VEVENT
BEGIN:VEVENT
DTSTART;TZID=America/Toronto:20250115T113000
DTEND;TZID=America/Toronto:20250115T130000
DTSTAMP:20260421T071425
CREATED:20240905T175735Z
LAST-MODIFIED:20250109T195931Z
UID:10000477-1736940600-1736946000@cbie.ca
SUMMARY:IE-Pro: Fundamentals of International Education
DESCRIPTION:
URL:https://cbie.ca/event/fundamentals-of-international-education/
CATEGORIES:International Education Professional Training (IE Pro)
ATTACH;FMTTYPE=image/png:https://cbie.ca/wp-content/uploads/2024/09/EN-IE-Pro_-Fundamentals-of-International-Education.png
ORGANIZER;CN="CBIE":MAILTO:communication@cbie.ca
END:VEVENT
END:VCALENDAR